BEGIN:VCALENDAR
VERSION:2.0
PRODID:icalendar-ruby
CALSCALE:GREGORIAN
METHOD:PUBLISH
BEGIN:VEVENT
DTSTAMP:20260420T160249Z
UID:10-582743@faithholinesschurch.com
DTSTART:20261101T153000Z
DTEND:20261101T170000Z
CLASS:PUBLIC
CREATED:20260420T103904
DESCRIPTION:Morning Worship is a time that we come together as believers to
  worship\, be instructed by the word\, and fellowship with other believers
LAST-MODIFIED:20260420T103904
LOCATION:
SUMMARY:Morning Worship
URL;VALUE=URI:https://www.faithholinesschurch.com/events/morning-worship--1
 0/2026-11-01
END:VEVENT
END:VCALENDAR
