BEGIN:VCALENDAR
VERSION:2.0
PRODID:icalendar-ruby
CALSCALE:GREGORIAN
METHOD:PUBLISH
BEGIN:VEVENT
DTSTAMP:20260420T130821Z
UID:10-582324@faithholinesschurch.com
DTSTART:20261018T143000Z
DTEND:20261018T160000Z
CLASS:PUBLIC
CREATED:20260420T080416
DESCRIPTION:Morning Worship is a time that we come together as believers to
  worship\, be instructed by the word\, and fellowship with other believers
LAST-MODIFIED:20260420T080416
LOCATION:
SUMMARY:Morning Worship
URL;VALUE=URI:https://www.faithholinesschurch.com/events/morning-worship--1
 0/2026-10-18
END:VEVENT
END:VCALENDAR
