BEGIN:VCALENDAR
VERSION:2.0
PRODID:icalendar-ruby
CALSCALE:GREGORIAN
METHOD:PUBLISH
BEGIN:VEVENT
DTSTAMP:20260420T074347Z
UID:10-581903@faithholinesschurch.com
DTSTART:20260920T143000Z
DTEND:20260920T160000Z
CLASS:PUBLIC
CREATED:20260420T032049
DESCRIPTION:Morning Worship is a time that we come together as believers to
  worship\, be instructed by the word\, and fellowship with other believers
LAST-MODIFIED:20260420T032049
LOCATION:
SUMMARY:Morning Worship
URL;VALUE=URI:https://www.faithholinesschurch.com/events/morning-worship--1
 0/2026-09-20
END:VEVENT
END:VCALENDAR
