BEGIN:VCALENDAR
VERSION:2.0
PRODID:icalendar-ruby
CALSCALE:GREGORIAN
METHOD:PUBLISH
BEGIN:VEVENT
DTSTAMP:20260420T182203Z
UID:46-583461@faithholinesschurch.com
DTSTART:20261025T133000Z
DTEND:20261025T143000Z
CLASS:PUBLIC
CREATED:20260420T131312
DESCRIPTION:Join Us for Sunday for Life Group!\nEach Sunday at 9:30 AM\, we
  gather together to study God’s Word as a group. Our time includes rotat
 ing teachers\, engaging discussion\, and meaningful spiritual growth. Whet
 her you’re new or a regular\, there’s always something fresh to learn.
  Come grow with us this Sunday!
LAST-MODIFIED:20260420T131312
LOCATION:Youth Center
SUMMARY:Life Group
URL;VALUE=URI:https://www.faithholinesschurch.com/events/life-group/2026-10
 -25
END:VEVENT
END:VCALENDAR
