BEGIN:VCALENDAR
VERSION:2.0
PRODID:icalendar-ruby
CALSCALE:GREGORIAN
METHOD:PUBLISH
BEGIN:VEVENT
DTSTAMP:20260420T112045Z
UID:46-582205@faithholinesschurch.com
DTSTART:20260920T133000Z
DTEND:20260920T143000Z
CLASS:PUBLIC
CREATED:20260420T032049
DESCRIPTION:Join Us for Sunday for Life Group!\nEach Sunday at 9:30 AM\, we
  gather together to study God’s Word as a group. Our time includes rotat
 ing teachers\, engaging discussion\, and meaningful spiritual growth. Whet
 her you’re new or a regular\, there’s always something fresh to learn.
  Come grow with us this Sunday!
LAST-MODIFIED:20260420T032049
LOCATION:Youth Center
SUMMARY:Life Group
URL;VALUE=URI:https://www.faithholinesschurch.com/events/life-group/2026-09
 -20
END:VEVENT
END:VCALENDAR
