BEGIN:VCALENDAR
VERSION:2.0
PRODID:icalendar-ruby
CALSCALE:GREGORIAN
METHOD:PUBLISH
BEGIN:VEVENT
DTSTAMP:20260420T140908Z
UID:11-582440@faithholinesschurch.com
DTSTART:20261025T220000Z
DTEND:20261026T000000Z
CLASS:PUBLIC
CREATED:20260420T080416
DESCRIPTION:Evening Worship is a time that we come together as believers t
 o worship\, be instructed by the word\, and fellowship with other believer
 s
LAST-MODIFIED:20260420T080416
LOCATION:
SUMMARY:Evening Worship
URL;VALUE=URI:https://www.faithholinesschurch.com/events/evening-worship--1
 1/2026-10-25
END:VEVENT
END:VCALENDAR
