BEGIN:VCALENDAR
VERSION:2.0
PRODID:icalendar-ruby
CALSCALE:GREGORIAN
METHOD:PUBLISH
BEGIN:VEVENT
DTSTAMP:20260420T071522Z
UID:11-581599@faithholinesschurch.com
DTSTART:20260920T220000Z
DTEND:20260921T000000Z
CLASS:PUBLIC
CREATED:20260419T234334
DESCRIPTION:Evening Worship is a time that we come together as believers t
 o worship\, be instructed by the word\, and fellowship with other believer
 s
LAST-MODIFIED:20260419T234334
LOCATION:
SUMMARY:Evening Worship
URL;VALUE=URI:https://www.faithholinesschurch.com/events/evening-worship--1
 1/2026-09-20
END:VEVENT
END:VCALENDAR
