BEGIN:VCALENDAR
VERSION:2.0
PRODID:icalendar-ruby
CALSCALE:GREGORIAN
METHOD:PUBLISH
BEGIN:VEVENT
DTSTAMP:20260420T053625Z
UID:13-581711@faithholinesschurch.com
DTSTART:20260923T230000Z
DTEND:20260924T000000Z
CLASS:PUBLIC
CREATED:20260419T234334
DESCRIPTION:
LAST-MODIFIED:20260419T234334
LOCATION:
SUMMARY:Bible Study
URL;VALUE=URI:https://www.faithholinesschurch.com/events/bible-study--12/20
 26-09-23
ATTACH;FILENAME=bible_crosses-01.jpg;FMTTYPE=image/jpeg:https://dq5pwpg1q8r
 u0.cloudfront.net/2024/08/23/23/43/01/6df19455-f610-401a-852e-0d3dffafe1a5
 /bible_crosses-01.jpg
END:VEVENT
END:VCALENDAR
